BEGIN:VCALENDAR
VERSION:2.0
PRODID:-//Richwoods Christian Church - ECPv5.1.6//NONSGML v1.0//EN
CALSCALE:GREGORIAN
METHOD:PUBLISH
X-WR-CALNAME:Richwoods Christian Church
X-ORIGINAL-URL:https://www.richwoods.org
X-WR-CALDESC:Events for Richwoods Christian Church
BEGIN:VTIMEZONE
TZID:America/Chicago
BEGIN:DAYLIGHT
TZOFFSETFROM:-0600
TZOFFSETTO:-0500
TZNAME:CDT
DTSTART:20260308T080000
END:DAYLIGHT
BEGIN:STANDARD
TZOFFSETFROM:-0500
TZOFFSETTO:-0600
TZNAME:CST
DTSTART:20261101T070000
END:STANDARD
END:VTIMEZONE
BEGIN:VEVENT
DTSTART;TZID=America/Chicago:20260612T190000
DTEND;TZID=America/Chicago:20260614T110000
DTSTAMP:20260419T200116
CREATED:20260417T014347Z
LAST-MODIFIED:20260417T014929Z
UID:6945-1781290800-1781434800@www.richwoods.org
SUMMARY:Encounter The Overflow Retreat
DESCRIPTION:Encounter The Overflow: From Wilderness to Oasis is a retreat created just for you—to rest\, reset\, and reconnect with God. \nWherever you are right now—weary\, searching\, thirsty or expectant—come. \n\nStep Away. Draw Closer. Join In. \nJune 12–14 | Sacré-Coeur Retreat Center\nYour stay includes a private hotel style room\, lodging\, meals\, and everything you need to fully unplug and receive. \n\n$325 (single) | $475 (couples)\nEarly Bird Special | $50 (first 10 registrations)Spots are limited. Registration is open now and closes May 28.Sign Up Today
URL:https://www.richwoods.org/event/encounter-the-overflow-retreat/
LOCATION:Sacre Coeur Retreat Center\, 8508 County Road 100 N\, Magnolia\, IL\, 61336
ATTACH;FMTTYPE=image/png:https://www.richwoods.org/wp-content/uploads/2026/04/Richwoods_ExtendedRetreat_Card_4x6_Card-FRONT_R5_V1.png
END:VEVENT
BEGIN:VEVENT
DTSTART;TZID=America/Chicago:20260510T113000
DTEND;TZID=America/Chicago:20260510T124500
DTSTAMP:20260419T200117
CREATED:20260418T024438Z
LAST-MODIFIED:20260418T170209Z
UID:6953-1778412600-1778417100@www.richwoods.org
SUMMARY:Child Dedication Ceremony
DESCRIPTION:On Mother’s Day\, parents and guardians are invited to make a public commitment to raise their children to follow Jesus — partnering with Richwoods Christian Church every step of the way. \nIf your family is ready to be part of this meaningful moment\, we’d love for you to join us. \n\n\nRegister Today
URL:https://www.richwoods.org/event/child-dedication-ceremony/
ATTACH;FMTTYPE=image/png:https://www.richwoods.org/wp-content/uploads/2026/04/Child-Dedications-Graphic.png
END:VEVENT
BEGIN:VEVENT
DTSTART;TZID=America/Chicago:20260429T180000
DTEND;TZID=America/Chicago:20260429T193000
DTSTAMP:20260419T200117
CREATED:20260329T232915Z
LAST-MODIFIED:20260402T015451Z
UID:6921-1777485600-1777491000@www.richwoods.org
SUMMARY:Richwoods Midweek: Sacred Rhythms
DESCRIPTION:Join us for a 5-week study starting on April 29th. This class will give you an opportunity to lean into sacred rhythms before the busy days of summer set in. Please sign up below and let us know if you’ll need childcare. \nSign Up for Sacred Rhythms
URL:https://www.richwoods.org/event/richwoods-midweek-sacred-rhythms/
ATTACH;FMTTYPE=image/jpeg:https://www.richwoods.org/wp-content/uploads/2026/03/SacredRhythms_1920x1080_Main.jpg
END:VEVENT
BEGIN:VEVENT
DTSTART;TZID=America/Chicago:20260429T180000
DTEND;TZID=America/Chicago:20260429T193000
DTSTAMP:20260419T200117
CREATED:20260329T182303Z
LAST-MODIFIED:20260402T014741Z
UID:6916-1777485600-1777491000@www.richwoods.org
SUMMARY:Richwoods Midweek: Parenting Matters
DESCRIPTION:Join us for a 5-week journey through Parenting Matters because what we know is that it certainly does! This midweek class starts on April 29th — childcare is available. \nSign Up for Parenting Matters
URL:https://www.richwoods.org/event/midweek-parenting-matters/
ATTACH;FMTTYPE=image/jpeg:https://www.richwoods.org/wp-content/uploads/2026/03/ParentingMatters_R2_V1.jpg
END:VEVENT
BEGIN:VEVENT
DTSTART;TZID=America/Chicago:20260426T113000
DTEND;TZID=America/Chicago:20260426T123000
DTSTAMP:20260419T200117
CREATED:20260411T200136Z
LAST-MODIFIED:20260411T200136Z
UID:6937-1777203000-1777206600@www.richwoods.org
SUMMARY:Pull Up A Chair
DESCRIPTION:On April 26th during the 11:30 service in the Youth Room\, we’re inviting you and your whole family into a space where you can connect\, meet people\, and discover what your next step could look like here. \nIf you’ve been wondering\, “How do I get connected?” this is for you. \nPull up a chair. There’s a place for you here. \nSign Up to Join Us
URL:https://www.richwoods.org/event/pull-up-a-chair/
ATTACH;FMTTYPE=image/jpeg:https://www.richwoods.org/wp-content/uploads/2026/04/PullUpaChair_R3_V1.jpg
END:VEVENT
BEGIN:VEVENT
DTSTART;TZID=America/Chicago:20260425T090000
DTEND;TZID=America/Chicago:20260425T103000
DTSTAMP:20260419T200117
CREATED:20250304T214355Z
LAST-MODIFIED:20260329T184225Z
UID:5470-1777107600-1777113000@www.richwoods.org
SUMMARY:Becoming: A Women's Ministry Gathering
DESCRIPTION:We are so excited to start another year of Becoming\, a monthly gathering where women of all ages (high school and older) can learn\, pray\, and grow alongside each other. Whether you’ve known Jesus a long time or you’re curious about what it means to be a Christian\, you are warmly invited to join us! \nGalatians 5:22-23 will be the foundation of our time together this year: But the fruit of the Spirit is love\, joy\, peace\, patience\, kindness\, goodness\, faithfulness\, gentleness\, self-control; against such things there is no law. \nThis year\, we will usually meet on the fourth Saturday of the month from 9:00-10:30. If you have questions\, please reach out to Jenna Manbeck. We hope to see you there!
URL:https://www.richwoods.org/event/becoming-a-womens-ministry-gathering/
ATTACH;FMTTYPE=image/png:https://www.richwoods.org/wp-content/uploads/2025/03/Becoming-2026-Dates-for-Events-Page.png
END:VEVENT
BEGIN:VEVENT
DTSTART;TZID=America/Chicago:20260420T190000
DTEND;TZID=America/Chicago:20260420T210000
DTSTAMP:20260419T200117
CREATED:20260417T013423Z
LAST-MODIFIED:20260417T013423Z
UID:6942-1776711600-1776718800@www.richwoods.org
SUMMARY:More of Him
DESCRIPTION:Join us for four nights of worship with area churches April 20-23\, starting at 7:00 pm here at Richwoods. We will be inviting “More of Him” in and through our city. Join us for one night or all four.
URL:https://www.richwoods.org/event/more-of-him/
ATTACH;FMTTYPE=image/png:https://www.richwoods.org/wp-content/uploads/2026/04/More-of-Him.png
END:VEVENT
END:VCALENDAR